BEGIN:VCALENDAR
VERSION:2.0
PRODID:-//Town of Bluff Government - ECPv6.15.20//NONSGML v1.0//EN
CALSCALE:GREGORIAN
METHOD:PUBLISH
X-ORIGINAL-URL:https://townofbluffutah.gov
X-WR-CALDESC:Events for Town of Bluff Government
REFRESH-INTERVAL;VALUE=DURATION:PT1H
X-Robots-Tag:noindex
X-PUBLISHED-TTL:PT1H
BEGIN:VTIMEZONE
TZID:UTC
BEGIN:STANDARD
TZOFFSETFROM:+0000
TZOFFSETTO:+0000
TZNAME:UTC
DTSTART:20250101T000000
END:STANDARD
END:VTIMEZONE
BEGIN:VEVENT
DTSTART;TZID=UTC:20260113T123000
DTEND;TZID=UTC:20260113T143000
DTSTAMP:20260423T023743
CREATED:20260111T232821Z
LAST-MODIFIED:20260111T232822Z
UID:12377-1768307400-1768314600@townofbluffutah.gov
SUMMARY:Walk-in Food Pantry
DESCRIPTION:Food Pantry is open for shopping every Tuesday at the Bluff Community Center\, starting at 12:30pm.
URL:https://townofbluffutah.gov/event/walk-in-food-pantry-54/
LOCATION:Utah
END:VEVENT
BEGIN:VEVENT
DTSTART;TZID=UTC:20260113T153000
DTEND;TZID=UTC:20260113T160000
DTSTAMP:20260423T023743
CREATED:20260109T071105Z
LAST-MODIFIED:20260109T071107Z
UID:12316-1768318200-1768320000@townofbluffutah.gov
SUMMARY:Public Hearing: Community Development Block Grant Potential Projects
DESCRIPTION:Notice is hereby given that Town of Bluff will hold a public hearing on January 13\, 2026 atBluff Community Center\, 190 North 300 East Bluff Utah\, 84512 at 3:30pm. Town of Bluffis eligible to apply to the Utah Department of Workforce Services for funding under theCommunity Development Block Grant (CDBG) Small Cities Program\, a federally fundedprogram administered by the State of Utah\, Housing and Community Development Division(HCD). Town of Bluff is eligible to apply for CDBG funding provided Town of Bluff meets theapplicable program requirements. \n\n\n\nThe purpose of the public hearing is to provide citizens with pertinent information about theCommunity Development Block Grant program and to allow for discussion of possibleapplications. This public hearing will cover eligible activities\, program requirements\, and expectedfunding allocations in the region. The CDBG Program can fund a broad range of activities\,including\, but not limited to: construction of public works and facilities\, e.g.\, water and sewerlines\, fire stations\, acquisition of real property\, and provision of public services such as food banksor homeless shelters. In the event that Town of Bluff chooses to apply for CDBG funding\, a secondpublic hearing will be held at a later time to discuss the project. Further information can be obtainedby contacting Malia Collins at 435-269-0023. \n\n\n\nIn compliance with the Americans with Disabilities Act\, individuals needing specialaccommodations (including auxiliary communicative aids and services) during this hearing shouldnotify Malia Collins at Town of Bluff Offices 190 North 300 East Bluff\, Utah 84512 at least threedays prior to the hearing. Individuals with speech and/or hearing impairments may call the RelayUtah by dialing 711. Spanish Relay Utah: 1.888.346.3162. \n\n\n\nMeeting to be held in person at the Bluff Community Center and virtually via Zoom: https://zoom.us/j/92499673928. You can also join via phone by calling in and using the passcode: +17193594580\,\,92499673928# US
URL:https://townofbluffutah.gov/event/public-hearing-community-development-block-grant-potential-projects/
LOCATION:Bluff Community Center\, 190 N 3rd E Street\, Bluff\, Utah\, 84512\, United States
ORGANIZER;CN="Bluff Town Council":MAILTO:office@townofbluffutah.gov
END:VEVENT
BEGIN:VEVENT
DTSTART;TZID=UTC:20260113T160000
DTEND;TZID=UTC:20260113T173000
DTSTAMP:20260423T023743
CREATED:20260109T002324Z
LAST-MODIFIED:20260109T002326Z
UID:12193-1768320000-1768325400@townofbluffutah.gov
SUMMARY:Bluff Town Council Work Session
DESCRIPTION:Bluff Town Council Work Sessions are scheduled the second Tuesday of each month at 4:00 PM\, unless otherwise noticed.  \n\n\n\nMeetings are hosted in person at the Bluff Community Center or via Zoom: https://zoom.us/j/92499673928. You can also join via phone by calling in and using the passcode: +17193594580\,\,92499673928# US \n\n\n\nMeeting Agendas\, Minutes\, and Audio Recordings can be found on the Utah Public Notice Website: https://www.utah.gov/pmn/ \n\n\n\nAgendas and Minute can be found on the town’s website at: https://townofbluffutah.gov/town-council/2024-agendas-and-minutes/ \n\n\n\nDate of 2026 Work Sessions: January 13th\, February 10th\, March 10th\, April 14th\, May 12th\, June 9th\, July 14th\, August 11th\, September 8th\, October 13th\, November 10th\, December 8th.
URL:https://townofbluffutah.gov/event/bluff-town-council-work-session-3/
LOCATION:Bluff Community Center\, 190 N 3rd E Street\, Bluff\, Utah\, 84512\, United States
END:VEVENT
BEGIN:VEVENT
DTSTART;TZID=UTC:20260113T170000
DTEND;TZID=UTC:20260113T170000
DTSTAMP:20260423T023743
CREATED:20260108T235937Z
LAST-MODIFIED:20260108T235939Z
UID:12186-1768323600-1768323600@townofbluffutah.gov
SUMMARY:Cemetery Board Application Deadline
DESCRIPTION:Town of Bluff is accepting applications for the newly created Bluff Cemetery Board (public notice attached). This three-person board will oversee the management of the north-west section of the Bluff Cemetery\, which recently came under the Town’s jurisdiction. This transition represents an important step toward ensuring the long-term sustainability\, care\, and stewardship of the Bluff Cemetery. The Town extends its sincere appreciation to Ann Leppanen and the many community members whose significant efforts helped make this outcome possible. \n\n\n\nResidents who are interested in serving on the Bluff Cemetery Board are invited to submit a letter of interest and a resume. Applications may be submitted by email or mail. \n\n\n\nEmail: manager@townofbluffutah.gov \n\n\n\nMail:Town of BluffATTN: Town ManagerPO Box 324Bluff\, UT 84512 \n\n\n\nApplications must be received no later than 5:00 p.m. on Tuesday\, January 13. We encourage community members who are interested in contributing to the thoughtful management and preservation of this important community asset to apply. Thank you for your continued engagement and support of the Town of Bluff.
URL:https://townofbluffutah.gov/event/cemetery-board-application-deadline/
LOCATION:Utah
END:VEVENT
END:VCALENDAR